Package: GEM Version: 1.30.0 Command: rm -rf GEM.buildbin-libdir && mkdir GEM.buildbin-libdir && E:\biocbuild\bbs-3.19-bioc\R\bin\R.exe CMD INSTALL --build --library=GEM.buildbin-libdir GEM_1.30.0.tar.gz StartedAt: 2024-10-17 07:50:00 -0400 (Thu, 17 Oct 2024) EndedAt: 2024-10-17 07:50:27 -0400 (Thu, 17 Oct 2024) EllapsedTime: 26.5 seconds RetCode: 0 Status: OK PackageFile: GEM_1.30.0.zip PackageFileSize: 620.5 KiB