Package: GEM Version: 1.30.0 Command: F:\biocbuild\bbs-3.19-bioc\R\bin\R.exe CMD check --no-multiarch --install=check:GEM.install-out.txt --library=F:\biocbuild\bbs-3.19-bioc\R\library --no-vignettes --timings GEM_1.30.0.tar.gz StartedAt: 2024-06-27 01:53:07 -0400 (Thu, 27 Jun 2024) EndedAt: 2024-06-27 01:54:24 -0400 (Thu, 27 Jun 2024) EllapsedTime: 77.2 seconds RetCode: 0 Status: OK CheckDir: GEM.Rcheck Warnings: 0