Package: GEM Version: 1.30.0 Command: chmod a+r GEM -R && F:\biocbuild\bbs-3.19-bioc\R\bin\R.exe CMD build --keep-empty-dirs --no-resave-data GEM StartedAt: 2024-06-26 19:04:30 -0400 (Wed, 26 Jun 2024) EndedAt: 2024-06-26 19:04:55 -0400 (Wed, 26 Jun 2024) EllapsedTime: 25.2 seconds RetCode: 0 Status: OK PackageFile: GEM_1.30.0.tar.gz PackageFileSize: 419.4 KiB