Package: GEM Version: 1.30.0 Command: rm -rf GEM.buildbin-libdir && mkdir GEM.buildbin-libdir && F:\biocbuild\bbs-3.19-bioc\R\bin\R.exe CMD INSTALL --build --library=GEM.buildbin-libdir GEM_1.30.0.tar.gz StartedAt: 2024-06-27 08:15:07 -0400 (Thu, 27 Jun 2024) EndedAt: 2024-06-27 08:15:25 -0400 (Thu, 27 Jun 2024) EllapsedTime: 17.6 seconds RetCode: 0 Status: OK PackageFile: GEM_1.30.0.zip PackageFileSize: 620.1 KiB