Package: GEM Version: 1.30.0 Command: rm -rf GEM.buildbin-libdir && mkdir GEM.buildbin-libdir && /Users/biocbuild/BBS/utils/build-universal.sh GEM_1.30.0.tar.gz /Library/Frameworks/R.framework/Resources/bin/R GEM.buildbin-libdir StartedAt: 2024-06-10 00:19:16 -0400 (Mon, 10 Jun 2024) EndedAt: 2024-06-10 00:19:30 -0400 (Mon, 10 Jun 2024) EllapsedTime: 13.4 seconds RetCode: 0 Status: OK PackageFile: GEM_1.30.0.tgz PackageFileSize: 910.8 KiB