Package: GEM Version: 1.30.0 Command: /Library/Frameworks/R.framework/Resources/bin/R CMD INSTALL GEM StartedAt: 2024-10-16 16:03:08 -0400 (Wed, 16 Oct 2024) EndedAt: 2024-10-16 16:03:17 -0400 (Wed, 16 Oct 2024) EllapsedTime: 9.2 seconds RetCode: 0 Status: OK