Package: GDSArray Version: 1.24.2 Command: E:\biocbuild\bbs-3.19-bioc\R\bin\R.exe CMD check --no-multiarch --install=check:GDSArray.install-out.txt --library=E:\biocbuild\bbs-3.19-bioc\R\library --no-vignettes --timings GDSArray_1.24.2.tar.gz StartedAt: 2024-10-17 01:41:26 -0400 (Thu, 17 Oct 2024) EndedAt: 2024-10-17 01:43:46 -0400 (Thu, 17 Oct 2024) EllapsedTime: 140.3 seconds RetCode: 0 Status: WARNINGS CheckDir: GDSArray.Rcheck Warnings: 2