Package: GDSArray Version: 1.24.2 Command: rm -rf GDSArray.buildbin-libdir && mkdir GDSArray.buildbin-libdir && E:\biocbuild\bbs-3.19-bioc\R\bin\R.exe CMD INSTALL --build --library=GDSArray.buildbin-libdir GDSArray_1.24.2.tar.gz StartedAt: 2024-10-17 07:49:52 -0400 (Thu, 17 Oct 2024) EndedAt: 2024-10-17 07:50:32 -0400 (Thu, 17 Oct 2024) EllapsedTime: 40.3 seconds RetCode: 0 Status: OK PackageFile: GDSArray_1.24.2.zip PackageFileSize: 666.1 KiB