Package: GDSArray Version: 1.24.1 Command: F:\biocbuild\bbs-3.19-bioc\R\bin\R.exe CMD INSTALL GDSArray StartedAt: 2024-06-26 15:52:14 -0400 (Wed, 26 Jun 2024) EndedAt: 2024-06-26 15:52:39 -0400 (Wed, 26 Jun 2024) EllapsedTime: 25.2 seconds RetCode: 0 Status: OK