Package: GDSArray Version: 1.24.1 Command: rm -rf GDSArray.buildbin-libdir && mkdir GDSArray.buildbin-libdir && F:\biocbuild\bbs-3.19-bioc\R\bin\R.exe CMD INSTALL --build --library=GDSArray.buildbin-libdir GDSArray_1.24.1.tar.gz StartedAt: 2024-06-27 08:15:02 -0400 (Thu, 27 Jun 2024) EndedAt: 2024-06-27 08:15:44 -0400 (Thu, 27 Jun 2024) EllapsedTime: 42.4 seconds RetCode: 0 Status: OK PackageFile: GDSArray_1.24.1.zip PackageFileSize: 667.1 KiB