Package: GDSArray Version: 1.24.2 Command: /Library/Frameworks/R.framework/Resources/bin/R CMD build --keep-empty-dirs --no-resave-data GDSArray StartedAt: 2024-10-16 19:25:20 -0400 (Wed, 16 Oct 2024) EndedAt: 2024-10-16 19:26:25 -0400 (Wed, 16 Oct 2024) EllapsedTime: 64.5 seconds RetCode: 0 Status: OK PackageFile: GDSArray_1.24.2.tar.gz PackageFileSize: 305.6 KiB