Package: GDSArray Version: 1.24.1 Command: /Library/Frameworks/R.framework/Resources/bin/R CMD build --keep-empty-dirs --no-resave-data GDSArray StartedAt: 2024-06-09 16:43:58 -0400 (Sun, 09 Jun 2024) EndedAt: 2024-06-09 16:44:29 -0400 (Sun, 09 Jun 2024) EllapsedTime: 30.5 seconds RetCode: 0 Status: OK PackageFile: GDSArray_1.24.1.tar.gz PackageFileSize: 305.6 KiB