Package: GDSArray Version: 1.24.0 Command: /home/biocbuild/R/R-beta-2024-04-15_r86425/bin/R CMD build --keep-empty-dirs --no-resave-data GDSArray StartedAt: 2024-05-09 00:26:46 -0000 (Thu, 09 May 2024) EndedAt: 2024-05-09 00:27:21 -0000 (Thu, 09 May 2024) EllapsedTime: 35.1 seconds RetCode: 0 Status: OK PackageFile: GDSArray_1.24.0.tar.gz PackageFileSize: 372 KiB