Package: GDCRNATools Version: 1.24.0 Command: E:\biocbuild\bbs-3.19-bioc\R\bin\R.exe CMD check --no-multiarch --install=check:GDCRNATools.install-out.txt --library=E:\biocbuild\bbs-3.19-bioc\R\library --no-vignettes --timings GDCRNATools_1.24.0.tar.gz StartedAt: 2024-10-17 01:39:30 -0400 (Thu, 17 Oct 2024) EndedAt: 2024-10-17 01:46:13 -0400 (Thu, 17 Oct 2024) EllapsedTime: 402.6 seconds RetCode: 0 Status: OK CheckDir: GDCRNATools.Rcheck Warnings: 0