Package: GDCRNATools Version: 1.24.0 Command: rm -rf GDCRNATools.buildbin-libdir && mkdir GDCRNATools.buildbin-libdir && E:\biocbuild\bbs-3.19-bioc\R\bin\R.exe CMD INSTALL --build --library=GDCRNATools.buildbin-libdir GDCRNATools_1.24.0.tar.gz StartedAt: 2024-10-17 07:49:38 -0400 (Thu, 17 Oct 2024) EndedAt: 2024-10-17 07:51:11 -0400 (Thu, 17 Oct 2024) EllapsedTime: 93.0 seconds RetCode: 0 Status: OK PackageFile: GDCRNATools_1.24.0.zip PackageFileSize: 3.375 MiB