Package: GDCRNATools Version: 1.24.0 Command: /home/biocbuild/bbs-3.19-bioc/R/bin/R CMD build --keep-empty-dirs --no-resave-data GDCRNATools StartedAt: 2024-10-16 18:35:49 -0400 (Wed, 16 Oct 2024) EndedAt: 2024-10-16 18:36:49 -0400 (Wed, 16 Oct 2024) EllapsedTime: 60.1 seconds RetCode: 0 Status: OK PackageFile: GDCRNATools_1.24.0.tar.gz PackageFileSize: 5.314 MiB