Package: GDCRNATools Version: 1.24.0 Command: /Library/Frameworks/R.framework/Resources/bin/R CMD check --install=check:GDCRNATools.install-out.txt --library=/Library/Frameworks/R.framework/Resources/library --no-vignettes --timings GDCRNATools_1.24.0.tar.gz StartedAt: 2024-10-17 05:36:22 -0400 (Thu, 17 Oct 2024) EndedAt: 2024-10-17 05:49:06 -0400 (Thu, 17 Oct 2024) EllapsedTime: 763.9 seconds RetCode: 0 Status: OK CheckDir: GDCRNATools.Rcheck Warnings: 0