Package: GBScleanR Version: 1.8.25 Command: E:\biocbuild\bbs-3.19-bioc\R\bin\R.exe CMD check --no-multiarch --install=check:GBScleanR.install-out.txt --library=E:\biocbuild\bbs-3.19-bioc\R\library --no-vignettes --timings GBScleanR_1.8.25.tar.gz StartedAt: 2024-10-17 01:38:25 -0400 (Thu, 17 Oct 2024) EndedAt: 2024-10-17 01:42:20 -0400 (Thu, 17 Oct 2024) EllapsedTime: 234.7 seconds RetCode: 0 Status: WARNINGS CheckDir: GBScleanR.Rcheck Warnings: 1