Package: GBScleanR Version: 1.8.18 Command: F:\biocbuild\bbs-3.19-bioc\R\bin\R.exe CMD INSTALL GBScleanR StartedAt: 2024-06-26 15:50:46 -0400 (Wed, 26 Jun 2024) EndedAt: 2024-06-26 15:52:45 -0400 (Wed, 26 Jun 2024) EllapsedTime: 119.3 seconds RetCode: 0 Status: OK