Package: GBScleanR Version: 1.8.0 Command: F:\biocbuild\bbs-3.19-bioc\R\bin\R.exe CMD check --no-multiarch --install=check:GBScleanR.install-out.txt --library=F:\biocbuild\bbs-3.19-bioc\R\library --no-vignettes --timings GBScleanR_1.8.0.tar.gz StartedAt: 2024-06-10 03:58:24 -0400 (Mon, 10 Jun 2024) EndedAt: 2024-06-10 04:03:31 -0400 (Mon, 10 Jun 2024) EllapsedTime: 307.0 seconds RetCode: 0 Status: OK CheckDir: GBScleanR.Rcheck Warnings: 0