Package: GBScleanR Version: 1.8.18 Command: chmod a+r GBScleanR -R && F:\biocbuild\bbs-3.19-bioc\R\bin\R.exe CMD build --keep-empty-dirs --no-resave-data GBScleanR StartedAt: 2024-06-26 19:02:51 -0400 (Wed, 26 Jun 2024) EndedAt: 2024-06-26 19:05:12 -0400 (Wed, 26 Jun 2024) EllapsedTime: 141.4 seconds RetCode: 1 Status: ERROR PackageFile: None PackageFileSize: NA