Package: GBScleanR Version: 1.8.25 Command: /home/biocbuild/bbs-3.19-bioc/R/bin/R CMD INSTALL GBScleanR StartedAt: 2024-10-16 15:55:21 -0400 (Wed, 16 Oct 2024) EndedAt: 2024-10-16 15:56:08 -0400 (Wed, 16 Oct 2024) EllapsedTime: 46.6 seconds RetCode: 0 Status: OK