Package: GBScleanR Version: 1.8.25 Command: /Library/Frameworks/R.framework/Resources/bin/R CMD INSTALL GBScleanR StartedAt: 2024-10-16 15:17:55 -0400 (Wed, 16 Oct 2024) EndedAt: 2024-10-16 15:19:42 -0400 (Wed, 16 Oct 2024) EllapsedTime: 107.7 seconds RetCode: 0 Status: OK