Package: GBScleanR Version: 1.8.0 Command: /Library/Frameworks/R.framework/Resources/bin/R CMD INSTALL GBScleanR StartedAt: 2024-06-09 15:09:42 -0400 (Sun, 09 Jun 2024) EndedAt: 2024-06-09 15:10:48 -0400 (Sun, 09 Jun 2024) EllapsedTime: 66.2 seconds RetCode: 0 Status: OK