Package: GBScleanR Version: 1.8.0 Command: /Library/Frameworks/R.framework/Resources/bin/R CMD check --install=check:GBScleanR.install-out.txt --library=/Library/Frameworks/R.framework/Resources/library --no-vignettes --timings GBScleanR_1.8.0.tar.gz StartedAt: 2024-06-09 20:28:42 -0400 (Sun, 09 Jun 2024) EndedAt: 2024-06-09 20:32:04 -0400 (Sun, 09 Jun 2024) EllapsedTime: 201.2 seconds RetCode: 0 Status: OK CheckDir: GBScleanR.Rcheck Warnings: 0