Package: GBScleanR Version: 1.8.0 Command: /Library/Frameworks/R.framework/Resources/bin/R CMD build --keep-empty-dirs --no-resave-data GBScleanR StartedAt: 2024-06-09 21:50:17 -0400 (Sun, 09 Jun 2024) EndedAt: 2024-06-09 21:52:17 -0400 (Sun, 09 Jun 2024) EllapsedTime: 119.5 seconds RetCode: 0 Status: OK PackageFile: GBScleanR_1.8.0.tar.gz PackageFileSize: 1.919 MiB