Package: GBScleanR Version: 1.8.25 Command: /Library/Frameworks/R.framework/Resources/bin/R CMD build --keep-empty-dirs --no-resave-data GBScleanR StartedAt: 2024-10-17 00:49:09 -0400 (Thu, 17 Oct 2024) EndedAt: 2024-10-17 00:50:50 -0400 (Thu, 17 Oct 2024) EllapsedTime: 101.9 seconds RetCode: 0 Status: OK PackageFile: GBScleanR_1.8.25.tar.gz PackageFileSize: 1.939 MiB