Package: GAprediction Version: 1.30.0 Command: E:\biocbuild\bbs-3.19-bioc\R\bin\R.exe CMD INSTALL GAprediction StartedAt: 2024-10-16 16:55:47 -0400 (Wed, 16 Oct 2024) EndedAt: 2024-10-16 16:56:05 -0400 (Wed, 16 Oct 2024) EllapsedTime: 17.1 seconds RetCode: 0 Status: OK