Package: GAprediction Version: 1.30.0 Command: E:\biocbuild\bbs-3.19-bioc\R\bin\R.exe CMD check --no-multiarch --install=check:GAprediction.install-out.txt --library=E:\biocbuild\bbs-3.19-bioc\R\library --no-vignettes --timings GAprediction_1.30.0.tar.gz StartedAt: 2024-10-17 01:36:57 -0400 (Thu, 17 Oct 2024) EndedAt: 2024-10-17 01:38:24 -0400 (Thu, 17 Oct 2024) EllapsedTime: 87.0 seconds RetCode: 0 Status: OK CheckDir: GAprediction.Rcheck Warnings: 0