Package: GAprediction Version: 1.30.0 Command: chmod a+r GAprediction -R && E:\biocbuild\bbs-3.19-bioc\R\bin\R.exe CMD build --keep-empty-dirs --no-resave-data GAprediction StartedAt: 2024-10-16 19:17:49 -0400 (Wed, 16 Oct 2024) EndedAt: 2024-10-16 19:18:34 -0400 (Wed, 16 Oct 2024) EllapsedTime: 44.3 seconds RetCode: 0 Status: OK PackageFile: GAprediction_1.30.0.tar.gz PackageFileSize: 1.806 MiB