Package: GAprediction Version: 1.30.0 Command: rm -rf GAprediction.buildbin-libdir && mkdir GAprediction.buildbin-libdir && E:\biocbuild\bbs-3.19-bioc\R\bin\R.exe CMD INSTALL --build --library=GAprediction.buildbin-libdir GAprediction_1.30.0.tar.gz StartedAt: 2024-10-17 07:49:22 -0400 (Thu, 17 Oct 2024) EndedAt: 2024-10-17 07:49:48 -0400 (Thu, 17 Oct 2024) EllapsedTime: 26.4 seconds RetCode: 0 Status: OK PackageFile: GAprediction_1.30.0.zip PackageFileSize: 890.3 KiB