Package: GAprediction Version: 1.30.0 Command: F:\biocbuild\bbs-3.19-bioc\R\bin\R.exe CMD check --no-multiarch --install=check:GAprediction.install-out.txt --library=F:\biocbuild\bbs-3.19-bioc\R\library --no-vignettes --timings GAprediction_1.30.0.tar.gz StartedAt: 2024-06-27 01:49:02 -0400 (Thu, 27 Jun 2024) EndedAt: 2024-06-27 01:50:37 -0400 (Thu, 27 Jun 2024) EllapsedTime: 94.7 seconds RetCode: 0 Status: OK CheckDir: GAprediction.Rcheck Warnings: 0