Package: GAprediction Version: 1.30.0 Command: /Library/Frameworks/R.framework/Resources/bin/R CMD INSTALL GAprediction StartedAt: 2024-10-16 16:15:54 -0400 (Wed, 16 Oct 2024) EndedAt: 2024-10-16 16:16:15 -0400 (Wed, 16 Oct 2024) EllapsedTime: 20.7 seconds RetCode: 0 Status: OK