Package: GAprediction Version: 1.30.0 Command: /Library/Frameworks/R.framework/Resources/bin/R CMD check --install=check:GAprediction.install-out.txt --library=/Library/Frameworks/R.framework/Resources/library --no-vignettes --timings GAprediction_1.30.0.tar.gz StartedAt: 2024-10-17 05:33:43 -0400 (Thu, 17 Oct 2024) EndedAt: 2024-10-17 05:36:22 -0400 (Thu, 17 Oct 2024) EllapsedTime: 159.1 seconds RetCode: 0 Status: OK CheckDir: GAprediction.Rcheck Warnings: 0