Package: GAprediction Version: 1.30.0 Command: /Library/Frameworks/R.framework/Resources/bin/R CMD build --keep-empty-dirs --no-resave-data GAprediction StartedAt: 2024-10-16 19:22:46 -0400 (Wed, 16 Oct 2024) EndedAt: 2024-10-16 19:24:05 -0400 (Wed, 16 Oct 2024) EllapsedTime: 78.6 seconds RetCode: 0 Status: OK PackageFile: GAprediction_1.30.0.tar.gz PackageFileSize: 1.806 MiB