Package: GAprediction Version: 1.30.0 Command: /Library/Frameworks/R.framework/Resources/bin/R CMD check --install=check:GAprediction.install-out.txt --library=/Library/Frameworks/R.framework/Resources/library --no-vignettes --timings GAprediction_1.30.0.tar.gz StartedAt: 2024-06-09 20:28:13 -0400 (Sun, 09 Jun 2024) EndedAt: 2024-06-09 20:29:38 -0400 (Sun, 09 Jun 2024) EllapsedTime: 85.5 seconds RetCode: 0 Status: OK CheckDir: GAprediction.Rcheck Warnings: 0