Package: GAprediction Version: 1.30.0 Command: /Library/Frameworks/R.framework/Resources/bin/R CMD check --install=check:GAprediction.install-out.txt --library=/Library/Frameworks/R.framework/Resources/library --no-vignettes --timings GAprediction_1.30.0.tar.gz StartedAt: 2024-06-10 16:15:13 -0400 (Mon, 10 Jun 2024) EndedAt: 2024-06-10 16:17:27 -0400 (Mon, 10 Jun 2024) EllapsedTime: 134.4 seconds RetCode: 0 Status: OK CheckDir: GAprediction.Rcheck Warnings: 0