Package: GAprediction Version: 1.30.0 Command: rm -rf GAprediction.buildbin-libdir && mkdir GAprediction.buildbin-libdir && /Users/biocbuild/BBS/utils/build-universal.sh GAprediction_1.30.0.tar.gz /Library/Frameworks/R.framework/Resources/bin/R GAprediction.buildbin-libdir StartedAt: 2024-10-18 18:35:01 -0400 (Fri, 18 Oct 2024) EndedAt: 2024-10-18 18:35:19 -0400 (Fri, 18 Oct 2024) EllapsedTime: 18.2 seconds RetCode: 0 Status: OK PackageFile: GAprediction_1.30.0.tgz PackageFileSize: 884.6 KiB