Package: GARS Version: 1.24.0 Command: E:\biocbuild\bbs-3.19-bioc\R\bin\R.exe CMD INSTALL GARS StartedAt: 2024-10-16 17:10:23 -0400 (Wed, 16 Oct 2024) EndedAt: 2024-10-16 17:11:30 -0400 (Wed, 16 Oct 2024) EllapsedTime: 66.9 seconds RetCode: 0 Status: OK