Package: GARS Version: 1.24.0 Command: /home/biocbuild/bbs-3.19-bioc/R/bin/R CMD build --keep-empty-dirs --no-resave-data GARS StartedAt: 2024-10-16 18:35:07 -0400 (Wed, 16 Oct 2024) EndedAt: 2024-10-16 18:36:59 -0400 (Wed, 16 Oct 2024) EllapsedTime: 112.2 seconds RetCode: 0 Status: OK PackageFile: GARS_1.24.0.tar.gz PackageFileSize: 438.8 KiB