Package: GARS Version: 1.24.0 Command: /home/biocbuild/R/R-beta-2024-04-15_r86425/bin/R CMD build --keep-empty-dirs --no-resave-data GARS StartedAt: 2024-05-09 00:24:38 -0000 (Thu, 09 May 2024) EndedAt: 2024-05-09 00:27:09 -0000 (Thu, 09 May 2024) EllapsedTime: 151.2 seconds RetCode: 0 Status: OK PackageFile: GARS_1.24.0.tar.gz PackageFileSize: 428.7 KiB