Package: GARS Version: 1.24.0 Command: rm -rf GARS.buildbin-libdir && mkdir GARS.buildbin-libdir && /Users/biocbuild/BBS/utils/build-universal.sh GARS_1.24.0.tar.gz /Library/Frameworks/R.framework/Resources/bin/R GARS.buildbin-libdir StartedAt: 2024-10-18 18:35:13 -0400 (Fri, 18 Oct 2024) EndedAt: 2024-10-18 18:36:35 -0400 (Fri, 18 Oct 2024) EllapsedTime: 82.2 seconds RetCode: 0 Status: OK PackageFile: GARS_1.24.0.tgz PackageFileSize: 501.3 KiB