Package: GA4GHshiny Version: 1.26.0 Command: chmod a+r GA4GHshiny -R && E:\biocbuild\bbs-3.19-bioc\R\bin\R.exe CMD build --keep-empty-dirs --no-resave-data GA4GHshiny StartedAt: 2024-10-16 19:16:57 -0400 (Wed, 16 Oct 2024) EndedAt: 2024-10-16 19:17:48 -0400 (Wed, 16 Oct 2024) EllapsedTime: 51.1 seconds RetCode: 0 Status: OK PackageFile: GA4GHshiny_1.26.0.tar.gz PackageFileSize: 298.8 KiB