Package: GA4GHshiny Version: 1.26.0 Command: F:\biocbuild\bbs-3.19-bioc\R\bin\R.exe CMD INSTALL GA4GHshiny StartedAt: 2024-06-26 16:47:34 -0400 (Wed, 26 Jun 2024) EndedAt: 2024-06-26 16:48:29 -0400 (Wed, 26 Jun 2024) EllapsedTime: 55.5 seconds RetCode: 0 Status: OK