Package: GA4GHshiny Version: 1.26.0 Command: chmod a+r GA4GHshiny -R && F:\biocbuild\bbs-3.19-bioc\R\bin\R.exe CMD build --keep-empty-dirs --no-resave-data GA4GHshiny StartedAt: 2024-06-26 19:01:52 -0400 (Wed, 26 Jun 2024) EndedAt: 2024-06-26 19:02:43 -0400 (Wed, 26 Jun 2024) EllapsedTime: 51.5 seconds RetCode: 0 Status: OK PackageFile: GA4GHshiny_1.26.0.tar.gz PackageFileSize: 298.8 KiB