Package: GA4GHshiny Version: 1.26.0 Command: /home/biocbuild/bbs-3.19-bioc/R/bin/R CMD check --install=check:GA4GHshiny.install-out.txt --library=/home/biocbuild/bbs-3.19-bioc/R/site-library --timings GA4GHshiny_1.26.0.tar.gz StartedAt: 2024-10-17 00:34:12 -0400 (Thu, 17 Oct 2024) EndedAt: 2024-10-17 00:39:13 -0400 (Thu, 17 Oct 2024) EllapsedTime: 300.6 seconds RetCode: 0 Status: OK CheckDir: GA4GHshiny.Rcheck Warnings: 0