Package: GA4GHshiny Version: 1.26.0 Command: /home/biocbuild/bbs-3.19-bioc/R/bin/R CMD build --keep-empty-dirs --no-resave-data GA4GHshiny StartedAt: 2024-10-16 18:34:38 -0400 (Wed, 16 Oct 2024) EndedAt: 2024-10-16 18:35:21 -0400 (Wed, 16 Oct 2024) EllapsedTime: 43.1 seconds RetCode: 0 Status: OK PackageFile: GA4GHshiny_1.26.0.tar.gz PackageFileSize: 298.8 KiB