Package: GA4GHshiny Version: 1.26.0 Command: /Library/Frameworks/R.framework/Resources/bin/R CMD build --keep-empty-dirs --no-resave-data GA4GHshiny StartedAt: 2024-10-16 19:22:23 -0400 (Wed, 16 Oct 2024) EndedAt: 2024-10-16 19:24:08 -0400 (Wed, 16 Oct 2024) EllapsedTime: 105.3 seconds RetCode: 0 Status: OK PackageFile: GA4GHshiny_1.26.0.tar.gz PackageFileSize: 298.7 KiB