Package: GA4GHshiny Version: 1.26.0 Command: /Library/Frameworks/R.framework/Resources/bin/R CMD INSTALL GA4GHshiny StartedAt: 2024-06-09 15:39:56 -0400 (Sun, 09 Jun 2024) EndedAt: 2024-06-09 15:40:49 -0400 (Sun, 09 Jun 2024) EllapsedTime: 53.1 seconds RetCode: 0 Status: OK