Package: GA4GHshiny Version: 1.26.0 Command: /home/biocbuild/R/R-beta-2024-04-15_r86425/bin/R CMD build --keep-empty-dirs --no-resave-data GA4GHshiny StartedAt: 2024-05-09 00:24:13 -0000 (Thu, 09 May 2024) EndedAt: 2024-05-09 00:25:12 -0000 (Thu, 09 May 2024) EllapsedTime: 59.1 seconds RetCode: 0 Status: OK PackageFile: GA4GHshiny_1.26.0.tar.gz PackageFileSize: 365.1 KiB